BEGIN:VCALENDAR
VERSION:2.0
PRODID:-//Midland Arts Association - ECPv6.15.18//NONSGML v1.0//EN
CALSCALE:GREGORIAN
METHOD:PUBLISH
X-WR-CALNAME:Midland Arts Association
X-ORIGINAL-URL:https://maatx.org
X-WR-CALDESC:Events for Midland Arts Association
REFRESH-INTERVAL;VALUE=DURATION:PT1H
X-Robots-Tag:noindex
X-PUBLISHED-TTL:PT1H
BEGIN:VTIMEZONE
TZID:America/Chicago
BEGIN:DAYLIGHT
TZOFFSETFROM:-0600
TZOFFSETTO:-0500
TZNAME:CDT
DTSTART:20250309T080000
END:DAYLIGHT
BEGIN:STANDARD
TZOFFSETFROM:-0500
TZOFFSETTO:-0600
TZNAME:CST
DTSTART:20251102T070000
END:STANDARD
BEGIN:DAYLIGHT
TZOFFSETFROM:-0600
TZOFFSETTO:-0500
TZNAME:CDT
DTSTART:20260308T080000
END:DAYLIGHT
BEGIN:STANDARD
TZOFFSETFROM:-0500
TZOFFSETTO:-0600
TZNAME:CST
DTSTART:20261101T070000
END:STANDARD
BEGIN:DAYLIGHT
TZOFFSETFROM:-0600
TZOFFSETTO:-0500
TZNAME:CDT
DTSTART:20270314T080000
END:DAYLIGHT
BEGIN:STANDARD
TZOFFSETFROM:-0500
TZOFFSETTO:-0600
TZNAME:CST
DTSTART:20271107T070000
END:STANDARD
END:VTIMEZONE
BEGIN:VEVENT
DTSTART;TZID=America/Chicago:20260317T080000
DTEND;TZID=America/Chicago:20260825T170000
DTSTAMP:20260424T154345
CREATED:20260302T195709Z
LAST-MODIFIED:20260412T002100Z
UID:2424-1773734400-1787677200@maatx.org
SUMMARY:Art in the Hallways at MSS | Midland TX Art Exhibition | MAA
DESCRIPTION:Art in the Hallways at The Gallery\nMidland Shared Spaces Exhibition\nNew artwork from members of the Midland Arts Association is now on display as part of the Art in the Hallways at The Gallery inside Midland Shared Spaces. \nThis rotating exhibition features a diverse collection of work from local artists\, offering visitors an opportunity to experience painting\, photography\, mixed media\, and more in a welcoming\, community-centered environment. \nThe exhibition is free and open to the public and will be on view from: \nMarch 17 – August 25 \nVisitors are invited to stop by during regular business hours to explore the artwork and connect with the creative spirit of Midland’s local art community.
URL:https://maatx.org/event/spring-summer-art-change-out/
LOCATION:The Gallery at Midland Shared Spaces (MSS)\, 3500 N. A Street\, Midland\, TX\, 79705\, United States
CATEGORIES:Art In The Halls,Call For Entries,MSS Midland Shared Spaces
ATTACH;FMTTYPE=image/png:https://maatx.org/wp-content/uploads/2026/03/ChatGPT-Image-Mar-14-2026-07_36_10-PM.png
ORGANIZER;CN="Midland Arts Association":MAILTO:info@maatx.org
END:VEVENT
BEGIN:VEVENT
DTSTART;TZID=America/Chicago:20260317T170000
DTEND;TZID=America/Chicago:20260317T183000
DTSTAMP:20260424T154345
CREATED:20260302T195709Z
LAST-MODIFIED:20260312T202744Z
UID:2425-1773766800-1773772200@maatx.org
SUMMARY:Spring Meet & Greet Reception
DESCRIPTION:The Artist Meet & Greet is a unique opportunity for the Midland community to connect with talented local artists. Hosted at Midland Shared Spaces\, this event showcases the diverse talents of artists affiliated with the Midland Arts Association\, Palette Club of Midland\, and Sibley Camera Club. Attendees will have the chance to engage with artists\, view their work\, and learn about the creative processes behind their art. \n\n\nDirections to MSS\n\n\n\n\n\n\n\nFeaturing MAA Member Artists\n\nMeet Midland artists Geoff Browne\, Diane K. Browne\, and Tia Harper at the Art in the Hallways reception featuring photography\, mixed media botanicals\, and expressive animal oil paintings. \n\n\n\n\n\n\n\n\n\nDiane K. Browne\n\n\n\n\n\nGeoff Browne\n\n\n\n\n\nTia Harper
URL:https://maatx.org/event/spring-meet-greet-reception/
LOCATION:TX
CATEGORIES:Call For Entries
ORGANIZER;CN="Midland Arts Association":MAILTO:info@maatx.org
END:VEVENT
BEGIN:VEVENT
DTSTART;TZID=America/Chicago:20260326T173000
DTEND;TZID=America/Chicago:20260326T190000
DTSTAMP:20260424T154345
CREATED:20260125T075234Z
LAST-MODIFIED:20260309T003804Z
UID:2108-1774546200-1774551600@maatx.org
SUMMARY:2026 Midland Arts Association Spring Juried Exhibition\, Reception & Awards Ceremony
DESCRIPTION:The Midland Arts Association proudly presents the 2026 Spring Juried Exhibition\, hosted in partnership with the Museum of the Southwest. This annual exhibition celebrates exceptional contemporary artwork by artists from Texas\, New Mexico\, and Arizona. \nExhibition Dates\nMarch 26 – June 7\, 2026 \nOpening Reception & Awards\nThursday\, March 26\, 20265:30 – 7:00 PMOpen to the public \nLocation\nMuseum of the Southwest1705 W. Missouri Ave.Midland\, TX 79701 \nAbout the Exhibition\nSince 1978\, the Midland Arts Association’s Spring Juried Exhibition has been a cornerstone of the region’s arts calendar. Juried by a respected professional in the field\, the exhibition highlights a wide range of media and artistic perspectives\, offering visitors a unique opportunity to experience outstanding regional talent in a museum setting. \nJuror\nLaura Romer HuckabyCurator of Collections & ExhibitionsSan Angelo Museum of Fine Arts \nAwards\nThe exhibition features $2\,500 in cash awards\, including Best of Show\, recognizing artistic excellence across multiple disciplines. \nPlan Your Visit\nThe exhibition is on view during regular museum hours from March 26 through June 7\, 2026. Admission policies follow those of the Museum of the Southwest. \nA Legacy of Artistic ExcellenceSince 1978\, the Midland Arts Association has proudly hosted the annual Spring Juried Art Exhibition\, a cornerstone event that highlights the vibrant artistic community. Held at the esteemed Museum of the Southwest\, this exhibition brings together artists from across the region\, fostering creativity and cultural enrichment. \nExhibition AwardsBest of Show$1000 PrizeRecognizing the most outstanding artwork in the exhibition\, this award celebrates exceptional artistic achievement. \n1st Place$750 PrizeAwarded to an artist whose work demonstrates remarkable skill and creativity. \n2nd Place$500 PrizeHonoring an artist for their impressive contribution to the exhibition. \n3RD Place$250 PrizeAwarded for demonstrating strong artistic merit\, creativity\, and technical skill. \nJurorLaura Romer HuckabyLaura Romer Huckaby serves as the Curator of Collections and Exhibitions at the San Angelo Museum of Fine Arts. With over two decades of experience in the art world\, Laura has curated numerous acclaimed exhibitions and is known for her keen eye for contemporary art. Her dedication to fostering artistic talent and her innovative approach to curation have made her a respected figure in the arts community. \nExhibition TimelineExplore the key dates and milestones of the Spring 2026 Juried Art Exhibition. \nMarch 10\, 2026Acceptance NotificationArtists will be notified of their acceptance into the exhibition. \nMarch 16–17\, 2026Artwork Drop OffAccepted artworks must be delivered to the Museum of the Southwest. \nMarch 26\, 2026Exhibition OpensThe exhibition officially opens to the public. \nMarch 26\, 2026Reception & AwardsJoin us for the opening reception and awards ceremony from 5:30 to 7 PM. \nJune 7\, 2026Exhibition EndsThe final day to view the exhibition before it closes.
URL:https://maatx.org/event/2026-midland-arts-association-spring-juried-exhibition/
LOCATION:Museum of The Southwest\, 1705 W Missouri Ave.\, Midland\, TX\, 79701\, United States
CATEGORIES:MAA Juried Shows
ATTACH;FMTTYPE=image/png:https://maatx.org/wp-content/uploads/2026/01/ChatGPT-Image-Jan-25-2026-01_51_40-AM.png
ORGANIZER;CN="Midland Arts Association":MAILTO:info@maatx.org
END:VEVENT
END:VCALENDAR