BEGIN:VCALENDAR
VERSION:2.0
PRODID:-//Midland Arts Association - ECPv6.15.18//NONSGML v1.0//EN
CALSCALE:GREGORIAN
METHOD:PUBLISH
X-WR-CALNAME:Midland Arts Association
X-ORIGINAL-URL:https://maatx.org
X-WR-CALDESC:Events for Midland Arts Association
REFRESH-INTERVAL;VALUE=DURATION:PT1H
X-Robots-Tag:noindex
X-PUBLISHED-TTL:PT1H
BEGIN:VTIMEZONE
TZID:America/Chicago
BEGIN:DAYLIGHT
TZOFFSETFROM:-0600
TZOFFSETTO:-0500
TZNAME:CDT
DTSTART:20250309T080000
END:DAYLIGHT
BEGIN:STANDARD
TZOFFSETFROM:-0500
TZOFFSETTO:-0600
TZNAME:CST
DTSTART:20251102T070000
END:STANDARD
BEGIN:DAYLIGHT
TZOFFSETFROM:-0600
TZOFFSETTO:-0500
TZNAME:CDT
DTSTART:20260308T080000
END:DAYLIGHT
BEGIN:STANDARD
TZOFFSETFROM:-0500
TZOFFSETTO:-0600
TZNAME:CST
DTSTART:20261101T070000
END:STANDARD
BEGIN:DAYLIGHT
TZOFFSETFROM:-0600
TZOFFSETTO:-0500
TZNAME:CDT
DTSTART:20270314T080000
END:DAYLIGHT
BEGIN:STANDARD
TZOFFSETFROM:-0500
TZOFFSETTO:-0600
TZNAME:CST
DTSTART:20271107T070000
END:STANDARD
BEGIN:DAYLIGHT
TZOFFSETFROM:-0600
TZOFFSETTO:-0500
TZNAME:CDT
DTSTART:20280312T080000
END:DAYLIGHT
BEGIN:STANDARD
TZOFFSETFROM:-0500
TZOFFSETTO:-0600
TZNAME:CST
DTSTART:20281105T070000
END:STANDARD
END:VTIMEZONE
BEGIN:VEVENT
DTSTART;TZID=America/Chicago:20260317T080000
DTEND;TZID=America/Chicago:20260825T170000
DTSTAMP:20260423T073202
CREATED:20260302T195709Z
LAST-MODIFIED:20260412T002100Z
UID:2424-1773734400-1787677200@maatx.org
SUMMARY:Art in the Hallways at MSS | Midland TX Art Exhibition | MAA
DESCRIPTION:Art in the Hallways at The Gallery\nMidland Shared Spaces Exhibition\nNew artwork from members of the Midland Arts Association is now on display as part of the Art in the Hallways at The Gallery inside Midland Shared Spaces. \nThis rotating exhibition features a diverse collection of work from local artists\, offering visitors an opportunity to experience painting\, photography\, mixed media\, and more in a welcoming\, community-centered environment. \nThe exhibition is free and open to the public and will be on view from: \nMarch 17 – August 25 \nVisitors are invited to stop by during regular business hours to explore the artwork and connect with the creative spirit of Midland’s local art community.
URL:https://maatx.org/event/spring-summer-art-change-out/
LOCATION:The Gallery at Midland Shared Spaces (MSS)\, 3500 N. A Street\, Midland\, TX\, 79705\, United States
CATEGORIES:Art In The Halls,Call For Entries,MSS Midland Shared Spaces
ATTACH;FMTTYPE=image/png:https://maatx.org/wp-content/uploads/2026/03/ChatGPT-Image-Mar-14-2026-07_36_10-PM.png
ORGANIZER;CN="Midland Arts Association":MAILTO:info@maatx.org
END:VEVENT
BEGIN:VEVENT
DTSTART;TZID=America/Chicago:20260601T090000
DTEND;TZID=America/Chicago:20260828T170000
DTSTAMP:20260423T073202
CREATED:20260307T073042Z
LAST-MODIFIED:20260412T001805Z
UID:2509-1780304400-1787936400@maatx.org
SUMMARY:2026 MAA Member Summer Show – Show Us Your Devilish Side Theme
DESCRIPTION:The Midland Arts Association Member Summer Show returns for its sixth year at FaFa Gallery. \nSix years. Six themes. Six chances to push creative limits — so the 2026 challenge is simple: 666. \nArtists are invited to explore their devilish side through any medium or artistic form. Painting\, sculpture\, photography\, mixed media\, installation\, and experimental work are all welcome. \nEntry Requirements:• Open to current Midland Arts Association members• At least one original work must be created for the theme• After theme entries are submitted\, artists may display additional works if space allows• All mediums accepted \nPresentation Note:Works requiring frames should arrive framed. Unframed works may be displayed simply. \nDrop-off dates the week of June 1st - 6th\, 2026 between the hours of 9-5 \nExhibition AwardsBest Overall$666 PrizeChosen by the Midland Arts Association for technical excellence including composition\, technique\, and use of color. \nMost Devilish$666 PrizeChosen by audience vote for originality\, beauty\, and interpretation of the theme. \nFaFa Favorite$666 PrizeChosen by FaFa Gallery for outstanding presentation and impact.
URL:https://maatx.org/event/2026-maa-member-summer-show-devlish-theme/
LOCATION:The FaFa Gallery\, 438 Andrews Hwy\, Midland\, TX\, 79701\, United States
CATEGORIES:Call For Entries,Exhibitions,MAA Juried Shows,Members Only Show,The FaFa Gallery,Venues
ATTACH;FMTTYPE=image/jpeg:https://maatx.org/wp-content/uploads/2014/11/9-Painting-Honorable-Mention-Kay-Smith-_The-King_.jpg
ORGANIZER;CN="Midland Arts Association":MAILTO:info@maatx.org
END:VEVENT
BEGIN:VEVENT
DTSTART;TZID=America/Chicago:20260817T080000
DTEND;TZID=America/Chicago:20260821T170000
DTSTAMP:20260423T073202
CREATED:20260302T195709Z
LAST-MODIFIED:20260412T002535Z
UID:2426-1786953600-1787331600@maatx.org
SUMMARY:Fall Art Installation at MSS | Midland TX Art Change-Out
DESCRIPTION:The Midland Arts Association begins installation of new artwork for the upcoming Fall exhibition as part of the Art in the Hallways at The Gallery program at Midland Shared Spaces. \nDuring this week\, participating artists install fresh work\, transforming the space with a new collection of paintings\, photography\, and mixed media pieces. This change-out marks the transition to the Fall season and prepares the gallery for the next public exhibition.
URL:https://maatx.org/event/fall-art-change-out/
LOCATION:TX
CATEGORIES:Call For Entries
ORGANIZER;CN="Midland Arts Association":MAILTO:info@maatx.org
END:VEVENT
BEGIN:VEVENT
DTSTART;TZID=America/Chicago:20260825T170000
DTEND;TZID=America/Chicago:20260825T183000
DTSTAMP:20260423T073202
CREATED:20260302T195710Z
LAST-MODIFIED:20260412T002805Z
UID:2427-1787677200-1787682600@maatx.org
SUMMARY:Fall Artist Meet & Greet | Midland TX Art Reception MSS
DESCRIPTION:Join the Midland Arts Association for a Fall Artist Meet & Greet Reception at Midland Shared Spaces. \nThis reception celebrates the newly installed Fall exhibition and offers visitors the opportunity to meet the artists\, explore the artwork\, and engage with Midland’s creative community. The event is open to the public and provides a welcoming space to connect with local artists and experience their work firsthand.
URL:https://maatx.org/event/fall-meet-greet-reception/
LOCATION:TX
CATEGORIES:Call For Entries
ORGANIZER;CN="Midland Arts Association":MAILTO:info@maatx.org
END:VEVENT
BEGIN:VEVENT
DTSTART;TZID=America/Chicago:20261130T080000
DTEND;TZID=America/Chicago:20261204T170000
DTSTAMP:20260423T073202
CREATED:20260302T195710Z
LAST-MODIFIED:20260412T003219Z
UID:2428-1796025600-1796403600@maatx.org
SUMMARY:Winter Art Installation at MSS | Midland TX Art Exhibition Update
DESCRIPTION:The Midland Arts Association prepares for the Winter season with a new installation of artwork for the Art in the Hallways at The Gallery at Midland Shared Spaces. \nArtists will update the exhibition with fresh work\, creating a new visual experience for visitors and continuing the rotating showcase of local artistic talent.
URL:https://maatx.org/event/winter-art-change-out/
LOCATION:TX
CATEGORIES:Call For Entries
ORGANIZER;CN="Midland Arts Association":MAILTO:info@maatx.org
END:VEVENT
BEGIN:VEVENT
DTSTART;TZID=America/Chicago:20261208T170000
DTEND;TZID=America/Chicago:20261208T183000
DTSTAMP:20260423T073202
CREATED:20260302T195712Z
LAST-MODIFIED:20260412T003315Z
UID:2429-1796749200-1796754600@maatx.org
SUMMARY:Winter Artist Reception Midland TX | MSS Art Meet & Greet
DESCRIPTION:Celebrate the Winter exhibition with a Midland Arts Association Artist Meet & Greet Reception at Midland Shared Spaces. \nGuests are invited to meet participating artists\, view the newly installed artwork\, and enjoy an evening connecting with the local arts community. Artists may also request table space to further present their work and engage with attendees.
URL:https://maatx.org/event/winter-meet-greet-reception/
LOCATION:The Gallery at Midland Shared Spaces (MSS)\, 3500 N. A Street\, Midland\, TX\, 79705\, United States
CATEGORIES:Call For Entries
ORGANIZER;CN="Midland Arts Association":MAILTO:info@maatx.org
END:VEVENT
BEGIN:VEVENT
DTSTART;TZID=America/Chicago:20270308T080000
DTEND;TZID=America/Chicago:20270312T170000
DTSTAMP:20260423T073202
CREATED:20260302T195713Z
LAST-MODIFIED:20260412T003358Z
UID:2430-1804492800-1804870800@maatx.org
SUMMARY:Spring Summer Art Installation 2027 | Midland TX MSS Exhibit
DESCRIPTION:The Midland Arts Association installs new artwork for the 2027 Spring/Summer exhibition as part of the Art in the Hallways at The Gallery program at Midland Shared Spaces. \nThis change-out introduces a fresh collection of work from local artists\, continuing the rotating exhibition that brings art into a shared community environment.
URL:https://maatx.org/event/spring-summer-2027-art-change-out/
LOCATION:The Gallery at Midland Shared Spaces (MSS)\, 3500 N. A Street\, Midland\, TX\, 79705\, United States
CATEGORIES:Art In The Halls,Call For Entries
ORGANIZER;CN="Midland Arts Association":MAILTO:info@maatx.org
END:VEVENT
BEGIN:VEVENT
DTSTART;TZID=America/Chicago:20270316T170000
DTEND;TZID=America/Chicago:20270316T183000
DTSTAMP:20260423T073202
CREATED:20260302T195713Z
LAST-MODIFIED:20260412T003447Z
UID:2431-1805216400-1805221800@maatx.org
SUMMARY:Spring Summer Artist Reception 2027 | Midland TX Art Event
DESCRIPTION:Join the Midland Arts Association for a Spring/Summer Artist Meet & Greet Reception at Midland Shared Spaces. \nThis event celebrates the newly installed exhibition and invites the community to meet the artists\, explore the artwork\, and experience the creative energy of Midland’s local art scene.
URL:https://maatx.org/event/spring-summer-2027-meet-greet-reception/
LOCATION:The Gallery at Midland Shared Spaces (MSS)\, 3500 N. A Street\, Midland\, TX\, 79705\, United States
CATEGORIES:Call For Entries
ORGANIZER;CN="Midland Arts Association":MAILTO:info@maatx.org
END:VEVENT
END:VCALENDAR